BEGIN:VCALENDAR
VERSION:2.0
PRODID:-//rssny.org//NONSGML kigkonsult.se iCalcreator 2.30.10//
CALSCALE:GREGORIAN
METHOD:PUBLISH
UID:9e693a5b-02a7-404d-885b-10590bbdb0d2
X-WR-CALDESC:Join us for breakfast at the Center!
X-WR-RELCALID:d1548779f1cbbf5848a55b482472f44c
X-WR-TIMEZONE:America/New_York
BEGIN:VTIMEZONE
TZID:America/New_York
BEGIN:STANDARD
TZNAME:EST
DTSTART:20221106T020000
TZOFFSETFROM:-0400
TZOFFSETTO:-0500
RDATE:20231105T020000
END:STANDARD
BEGIN:DAYLIGHT
TZNAME:EDT
DTSTART:20230312T020000
TZOFFSETFROM:-0500
TZOFFSETTO:-0400
RDATE:20240310T020000
END:DAYLIGHT
END:VTIMEZONE
BEGIN:VEVENT
UID:6f99db9e-3a10-4ae8-a5f0-e109d79d5b1c
DTSTAMP:20260426T023409Z
DESCRIPTION:Join us for breakfast at the Center!
DTSTART;TZID=America/New_York:20230426T093000
DTEND;TZID=America/New_York:20230426T103000
LOCATION:
SUMMARY:Continental Breakfast (In Center)
END:VEVENT
END:VCALENDAR
