BEGIN:VCALENDAR
VERSION:2.0
PRODID:-//rssny.org//NONSGML kigkonsult.se iCalcreator 2.30.10//
CALSCALE:GREGORIAN
METHOD:PUBLISH
UID:b97e991c-e19b-43c4-b7c7-bc6d6538f831
X-WR-CALDESC:REGISTER HERE - https://rssny.org/class-forms/get-fit-with-stu
 art.html\n\nGet tone and fit with Stuart\, our exercise expert. Good for y
 ou whatever your level of fitness. A general fitness class that can be don
 e seated or standing. Try out this new class at RSS.
X-WR-RELCALID:a1e38385cba9c4d856704b1e4000ae47
X-WR-TIMEZONE:America/New_York
BEGIN:VTIMEZONE
TZID:America/New_York
BEGIN:STANDARD
TZNAME:EST
DTSTART:20221106T020000
TZOFFSETFROM:-0400
TZOFFSETTO:-0500
RDATE:20231105T020000
END:STANDARD
BEGIN:DAYLIGHT
TZNAME:EDT
DTSTART:20230312T020000
TZOFFSETFROM:-0500
TZOFFSETTO:-0400
RDATE:20240310T020000
END:DAYLIGHT
END:VTIMEZONE
BEGIN:VEVENT
UID:c4836d2b-f2d1-4ac8-807d-815a2c1565ee
DTSTAMP:20260426T023410Z
DESCRIPTION:REGISTER HERE - https://rssny.org/class-forms/get-fit-with-stua
 rt.html\n\nGet tone and fit with Stuart\, our exercise expert. Good for yo
 u whatever your level of fitness. A general fitness class that can be done
  seated or standing. Try out this new class at RSS.
DTSTART;TZID=America/New_York:20230421T100000
DTEND;TZID=America/New_York:20230421T110000
LOCATION:https://rssny.org/class-forms/get-fit-with-stuart.html
SUMMARY:Get Fit with Stuart (ONLINE & IN CENTER)
END:VEVENT
END:VCALENDAR
