BEGIN:VCALENDAR
VERSION:2.0
PRODID:-//rssny.org//NONSGML kigkonsult.se iCalcreator 2.30.10//
CALSCALE:GREGORIAN
METHOD:PUBLISH
UID:cfeb455b-5746-40c8-872e-d79b245d1b36
X-WR-CALDESC:PUSS & BOOTS
X-WR-RELCALID:44ea9a16bddf82e2dc249493390ea0bc
X-WR-TIMEZONE:America/New_York
BEGIN:VTIMEZONE
TZID:America/New_York
BEGIN:STANDARD
TZNAME:EST
DTSTART:20221106T020000
TZOFFSETFROM:-0400
TZOFFSETTO:-0500
RDATE:20231105T020000
END:STANDARD
BEGIN:DAYLIGHT
TZNAME:EDT
DTSTART:20230312T020000
TZOFFSETFROM:-0500
TZOFFSETTO:-0400
RDATE:20240310T020000
END:DAYLIGHT
END:VTIMEZONE
BEGIN:VEVENT
UID:6b5323af-ca3e-4ab5-bf13-dbb1d025a8d8
DTSTAMP:20260426T023613Z
DESCRIPTION:PUSS & BOOTS
DTSTART;TZID=America/New_York:20230419T130000
DTEND;TZID=America/New_York:20230419T150000
LOCATION:
SUMMARY:Movies (In Center)
END:VEVENT
END:VCALENDAR
