BEGIN:VCALENDAR
VERSION:2.0
PRODID:-//rssny.org//NONSGML kigkonsult.se iCalcreator 2.30.10//
CALSCALE:GREGORIAN
METHOD:PUBLISH
UID:4be670b6-e22f-48a7-a93a-d0cca14503f4
X-WR-CALDESC:Join us for breakfast at the Center!
X-WR-RELCALID:9542171f1dcadcc2f0e4970229834f9c
X-WR-TIMEZONE:America/New_York
BEGIN:VTIMEZONE
TZID:America/New_York
BEGIN:STANDARD
TZNAME:EST
DTSTART:20221106T020000
TZOFFSETFROM:-0400
TZOFFSETTO:-0500
RDATE:20231105T020000
END:STANDARD
BEGIN:DAYLIGHT
TZNAME:EDT
DTSTART:20230312T020000
TZOFFSETFROM:-0500
TZOFFSETTO:-0400
RDATE:20240310T020000
END:DAYLIGHT
END:VTIMEZONE
BEGIN:VEVENT
UID:8a07147a-2e60-4c4a-9ee1-ee185194295d
DTSTAMP:20260426T023312Z
DESCRIPTION:Join us for breakfast at the Center!
DTSTART;TZID=America/New_York:20230419T093000
DTEND;TZID=America/New_York:20230419T103000
LOCATION:
SUMMARY:Continental Breakfast (In Center)
END:VEVENT
END:VCALENDAR
