BEGIN:VCALENDAR
VERSION:2.0
PRODID:-//rssny.org//NONSGML kigkonsult.se iCalcreator 2.30.10//
CALSCALE:GREGORIAN
METHOD:PUBLISH
UID:057e2e37-4661-463c-81e7-eb18e9163851
X-WR-CALDESC:To register: https://rssny.org/class-forms/lets-talk-vegetable
 s.html
X-WR-RELCALID:7641f06c96fe209477d02eec39afbf46
X-WR-TIMEZONE:America/New_York
BEGIN:VTIMEZONE
TZID:America/New_York
BEGIN:STANDARD
TZNAME:EST
DTSTART:20221106T020000
TZOFFSETFROM:-0400
TZOFFSETTO:-0500
RDATE:20231105T020000
END:STANDARD
BEGIN:DAYLIGHT
TZNAME:EDT
DTSTART:20230312T020000
TZOFFSETFROM:-0500
TZOFFSETTO:-0400
RDATE:20240310T020000
END:DAYLIGHT
END:VTIMEZONE
BEGIN:VEVENT
UID:90c55e34-bd09-48cf-b64b-a54e408ecb37
DTSTAMP:20260426T023718Z
DESCRIPTION:To register: https://rssny.org/class-forms/lets-talk-vegetables
 .html
DTSTART;TZID=America/New_York:20230418T150000
DTEND;TZID=America/New_York:20230418T160000
LOCATION:https://rssny.org/class-forms/lets-talk-vegetables.html
SUMMARY:Let's Talk Vegetables: Signs of spring – parsley\, horseradish\, le
 eks\, spring onions and spring garlic\, etc (Hybrid)
END:VEVENT
END:VCALENDAR
