BEGIN:VCALENDAR
VERSION:2.0
PRODID:-//rssny.org//NONSGML kigkonsult.se iCalcreator 2.30.10//
CALSCALE:GREGORIAN
METHOD:PUBLISH
UID:31ec8553-1c1e-48d0-be56-3c8cb232efa1
X-WR-CALDESC:Open to any skill level.
X-WR-RELCALID:74da12e09442daeab23868aec2ab7e65
X-WR-TIMEZONE:America/New_York
BEGIN:VTIMEZONE
TZID:America/New_York
BEGIN:STANDARD
TZNAME:EST
DTSTART:20221106T020000
TZOFFSETFROM:-0400
TZOFFSETTO:-0500
RDATE:20231105T020000
END:STANDARD
BEGIN:DAYLIGHT
TZNAME:EDT
DTSTART:20230312T020000
TZOFFSETFROM:-0500
TZOFFSETTO:-0400
RDATE:20240310T020000
END:DAYLIGHT
END:VTIMEZONE
BEGIN:VEVENT
UID:01160630-da1f-453b-afce-27d102f399c4
DTSTAMP:20260426T023423Z
DESCRIPTION:Open to any skill level.
DTSTART;TZID=America/New_York:20230417T130000
DTEND;TZID=America/New_York:20230417T150000
LOCATION:
SUMMARY:IN PERSON Mahjongg
END:VEVENT
END:VCALENDAR
