BEGIN:VCALENDAR
VERSION:2.0
PRODID:-//rssny.org//NONSGML kigkonsult.se iCalcreator 2.30.10//
CALSCALE:GREGORIAN
METHOD:PUBLISH
UID:2400eb9a-b4ee-4bc3-bfd5-7f711674d452
X-WR-CALDESC:This writing group is for anyone who likes to write\, likes to
  share\, and enjoys creating both memoir and fictional writing.  Every wee
 k I give a prompt to focus on\, and the following week everyone has a chan
 ce to share what he/she has written.  There is time\, then\, to comment by
  picking a phrase or sentence that stood out for the listener as exception
 al or reminiscent.\n\nIf you are interested in joining send an email to in
 fo@rssny.org
X-WR-RELCALID:a6de8ffdecb8bce6fe8e194e3bd50fea
X-WR-TIMEZONE:America/New_York
BEGIN:VTIMEZONE
TZID:America/New_York
BEGIN:STANDARD
TZNAME:EST
DTSTART:20221106T020000
TZOFFSETFROM:-0400
TZOFFSETTO:-0500
RDATE:20231105T020000
END:STANDARD
BEGIN:DAYLIGHT
TZNAME:EDT
DTSTART:20230312T020000
TZOFFSETFROM:-0500
TZOFFSETTO:-0400
RDATE:20240310T020000
END:DAYLIGHT
END:VTIMEZONE
BEGIN:VEVENT
UID:5f852ec1-812d-490e-bbca-312aa06972d8
DTSTAMP:20260426T023231Z
DESCRIPTION:This writing group is for anyone who likes to write\, likes to 
 share\, and enjoys creating both memoir and fictional writing.  Every week
  I give a prompt to focus on\, and the following week everyone has a chanc
 e to share what he/she has written.  There is time\, then\, to comment by 
 picking a phrase or sentence that stood out for the listener as exceptiona
 l or reminiscent.\n\nIf you are interested in joining send an email to inf
 o@rssny.org
DTSTART;TZID=America/New_York:20230417T123000
DTEND;TZID=America/New_York:20230417T140000
LOCATION:
SUMMARY:Write On! Writing Your Memories
END:VEVENT
END:VCALENDAR
