BEGIN:VCALENDAR
VERSION:2.0
PRODID:-//rssny.org//NONSGML kigkonsult.se iCalcreator 2.30.10//
CALSCALE:GREGORIAN
METHOD:PUBLISH
UID:2be5b217-3d1e-4719-8fcb-369f0b694677
X-WR-CALDESC:Register here - https://rssny.org/class-forms/concerts-in-moti
 on.html\n\nListen to wonderful Motown music led by professional musicians.
  Great way to head into the weekend!
X-WR-RELCALID:27b42f854f4807f2cd2b262e4b1996fa
X-WR-TIMEZONE:America/New_York
BEGIN:VTIMEZONE
TZID:America/New_York
BEGIN:STANDARD
TZNAME:EST
DTSTART:20221106T020000
TZOFFSETFROM:-0400
TZOFFSETTO:-0500
RDATE:20231105T020000
END:STANDARD
BEGIN:DAYLIGHT
TZNAME:EDT
DTSTART:20230312T020000
TZOFFSETFROM:-0500
TZOFFSETTO:-0400
RDATE:20240310T020000
END:DAYLIGHT
END:VTIMEZONE
BEGIN:VEVENT
UID:73769582-7dc6-4be7-b757-651e364bd6e9
DTSTAMP:20260426T023753Z
DESCRIPTION:Register here - https://rssny.org/class-forms/concerts-in-motio
 n.html\n\nListen to wonderful Motown music led by professional musicians. 
 Great way to head into the weekend!
DTSTART;TZID=America/New_York:20230414T140000
DTEND;TZID=America/New_York:20230414T150000
LOCATION:https://rssny.org/class-forms/concerts-in-motion.html
SUMMARY:Concerts in Motion: Motown (ONLINE - This is not an RSS event)
END:VEVENT
END:VCALENDAR
