BEGIN:VCALENDAR
VERSION:2.0
PRODID:-//rssny.org//NONSGML kigkonsult.se iCalcreator 2.30.10//
CALSCALE:GREGORIAN
METHOD:PUBLISH
UID:ea1dd993-b0e3-4aa5-9acd-fb5d94602ed9
X-WR-CALDESC:
X-WR-RELCALID:e63f397d5391f22f2dec5f54ea56de7f
X-WR-TIMEZONE:America/New_York
BEGIN:VTIMEZONE
TZID:America/New_York
BEGIN:STANDARD
TZNAME:EST
DTSTART:20221106T020000
TZOFFSETFROM:-0400
TZOFFSETTO:-0500
RDATE:20231105T020000
END:STANDARD
BEGIN:DAYLIGHT
TZNAME:EDT
DTSTART:20230312T020000
TZOFFSETFROM:-0500
TZOFFSETTO:-0400
RDATE:20240310T020000
END:DAYLIGHT
END:VTIMEZONE
BEGIN:VEVENT
UID:409e0a0e-649b-468c-8f4e-943a23ea824e
DTSTAMP:20260426T023423Z
DESCRIPTION:
DTSTART;TZID=America/New_York:20230414T100000
DTEND;TZID=America/New_York:20230414T120000
LOCATION:No Registration Required
SUMMARY:Sculpture Studio (IN CENTER)
END:VEVENT
END:VCALENDAR
