BEGIN:VCALENDAR
VERSION:2.0
PRODID:-//rssny.org//NONSGML kigkonsult.se iCalcreator 2.30.10//
CALSCALE:GREGORIAN
METHOD:PUBLISH
UID:cd02b124-e329-4408-8c65-5309d07c1cd8
X-WR-CALDESC:If you are interested in joining call 718.884.5900 or send an 
 email to info@rssny.org
X-WR-RELCALID:d1315295b5bd30e79ec0d74d058942ed
X-WR-TIMEZONE:America/New_York
BEGIN:VTIMEZONE
TZID:America/New_York
BEGIN:STANDARD
TZNAME:EST
DTSTART:20221106T020000
TZOFFSETFROM:-0400
TZOFFSETTO:-0500
RDATE:20231105T020000
END:STANDARD
BEGIN:DAYLIGHT
TZNAME:EDT
DTSTART:20230312T020000
TZOFFSETFROM:-0500
TZOFFSETTO:-0400
RDATE:20240310T020000
END:DAYLIGHT
END:VTIMEZONE
BEGIN:VEVENT
UID:53a5c3bd-127c-491a-b8ce-46c875ddf158
DTSTAMP:20260426T023046Z
DESCRIPTION:If you are interested in joining call 718.884.5900 or send an e
 mail to info@rssny.org
DTSTART;TZID=America/New_York:20230413T133000
DTEND;TZID=America/New_York:20230413T143000
LOCATION:
SUMMARY:Grief Support Group with Susan
END:VEVENT
END:VCALENDAR
