BEGIN:VCALENDAR
VERSION:2.0
PRODID:-//rssny.org//NONSGML kigkonsult.se iCalcreator 2.30.10//
CALSCALE:GREGORIAN
METHOD:PUBLISH
UID:6e1ff546-6d1f-42a0-8a5a-2a9f453d2716
X-WR-CALDESC:THE WHALE
X-WR-RELCALID:45a466750246ba5a1497252be0062bff
X-WR-TIMEZONE:America/New_York
BEGIN:VTIMEZONE
TZID:America/New_York
BEGIN:STANDARD
TZNAME:EST
DTSTART:20221106T020000
TZOFFSETFROM:-0400
TZOFFSETTO:-0500
RDATE:20231105T020000
END:STANDARD
BEGIN:DAYLIGHT
TZNAME:EDT
DTSTART:20230312T020000
TZOFFSETFROM:-0500
TZOFFSETTO:-0400
RDATE:20240310T020000
END:DAYLIGHT
END:VTIMEZONE
BEGIN:VEVENT
UID:1e9bfa14-8bc4-448a-bbf0-90fa8c173305
DTSTAMP:20260426T023614Z
DESCRIPTION:THE WHALE
DTSTART;TZID=America/New_York:20230412T130000
DTEND;TZID=America/New_York:20230412T150000
LOCATION:
SUMMARY:Movies (In Center)
END:VEVENT
END:VCALENDAR
