BEGIN:VCALENDAR
VERSION:2.0
PRODID:-//rssny.org//NONSGML kigkonsult.se iCalcreator 2.30.10//
CALSCALE:GREGORIAN
METHOD:PUBLISH
UID:afedcfa1-b2e2-4045-9db0-35948c93b798
X-WR-CALDESC:
X-WR-RELCALID:eab4e69e6bd784ca7081d6b9c74b435f
X-WR-TIMEZONE:America/New_York
BEGIN:VTIMEZONE
TZID:America/New_York
BEGIN:STANDARD
TZNAME:EST
DTSTART:20221106T020000
TZOFFSETFROM:-0400
TZOFFSETTO:-0500
RDATE:20231105T020000
END:STANDARD
BEGIN:DAYLIGHT
TZNAME:EDT
DTSTART:20230312T020000
TZOFFSETFROM:-0500
TZOFFSETTO:-0400
RDATE:20240310T020000
END:DAYLIGHT
END:VTIMEZONE
BEGIN:VEVENT
UID:f3700b0e-268c-4266-90ea-33cc21b4b07d
DTSTAMP:20260426T023308Z
DESCRIPTION:
DTSTART;TZID=America/New_York:20230412T120000
DTEND;TZID=America/New_York:20230412T130000
LOCATION:
SUMMARY:Lunch (In Center)
END:VEVENT
END:VCALENDAR
