BEGIN:VCALENDAR
VERSION:2.0
PRODID:-//rssny.org//NONSGML kigkonsult.se iCalcreator 2.30.10//
CALSCALE:GREGORIAN
METHOD:PUBLISH
UID:d256258f-3cbc-406f-b165-35085247e1e4
X-WR-CALDESC:We do mixed media collages with a weekly theme.  All supplies 
 are provided.  We welcome any level of experience. Come create wonderful a
 rt pieces with us!
X-WR-RELCALID:e13fe531faddf1de86ab7da67d58aba7
X-WR-TIMEZONE:America/New_York
BEGIN:VTIMEZONE
TZID:America/New_York
BEGIN:STANDARD
TZNAME:EST
DTSTART:20221106T020000
TZOFFSETFROM:-0400
TZOFFSETTO:-0500
RDATE:20231105T020000
END:STANDARD
BEGIN:DAYLIGHT
TZNAME:EDT
DTSTART:20230312T020000
TZOFFSETFROM:-0500
TZOFFSETTO:-0400
RDATE:20240310T020000
END:DAYLIGHT
END:VTIMEZONE
BEGIN:VEVENT
UID:3b00f71e-be85-4cf7-9fc0-0dfdf5b4c50e
DTSTAMP:20260426T023556Z
DESCRIPTION:We do mixed media collages with a weekly theme.  All supplies a
 re provided.  We welcome any level of experience. Come create wonderful ar
 t pieces with us!
DTSTART;TZID=America/New_York:20230411T130000
DTEND;TZID=America/New_York:20230411T150000
LOCATION:
SUMMARY:Collage with Annelen (In-Person)
END:VEVENT
END:VCALENDAR
