BEGIN:VCALENDAR
VERSION:2.0
PRODID:-//rssny.org//NONSGML kigkonsult.se iCalcreator 2.30.10//
CALSCALE:GREGORIAN
METHOD:PUBLISH
UID:95b59fb1-cd1c-41e9-a5c2-6737069c155f
X-WR-CALDESC:Reservations Required. Call 718.884.5900 to have your blood pr
 essure taken by the RSS nurse.
X-WR-RELCALID:f4d3e10dd72e52bcdbc1cb1c43cb3291
X-WR-TIMEZONE:America/New_York
BEGIN:VTIMEZONE
TZID:America/New_York
BEGIN:STANDARD
TZNAME:EST
DTSTART:20221106T020000
TZOFFSETFROM:-0400
TZOFFSETTO:-0500
RDATE:20231105T020000
END:STANDARD
BEGIN:DAYLIGHT
TZNAME:EDT
DTSTART:20230312T020000
TZOFFSETFROM:-0500
TZOFFSETTO:-0400
RDATE:20240310T020000
END:DAYLIGHT
END:VTIMEZONE
BEGIN:VEVENT
UID:6941e45b-9a64-4082-9dce-627a786a8faf
DTSTAMP:20260426T023752Z
DESCRIPTION:Reservations Required. Call 718.884.5900 to have your blood pre
 ssure taken by the RSS nurse.
DTSTART;TZID=America/New_York:20230411T100000
DTEND;TZID=America/New_York:20230411T110000
LOCATION:Reservations Required. Call 718.884.5900
SUMMARY:Blood Pressure Taken with Petronella Phillips\, RN (IN CENTER)
END:VEVENT
END:VCALENDAR
