BEGIN:VCALENDAR
VERSION:2.0
PRODID:-//rssny.org//NONSGML kigkonsult.se iCalcreator 2.30.10//
CALSCALE:GREGORIAN
METHOD:PUBLISH
UID:13b3675c-4d91-4aa4-84c7-cb17fffa7c8e
X-WR-CALDESC:Love knitting? Want to learn? Join the RSS knitting group. Lim
 ited space so registration is important.
X-WR-RELCALID:6ec4d78e81a3a90f8c48c05731d6d0ea
X-WR-TIMEZONE:America/New_York
BEGIN:VTIMEZONE
TZID:America/New_York
BEGIN:STANDARD
TZNAME:EST
DTSTART:20221106T020000
TZOFFSETFROM:-0400
TZOFFSETTO:-0500
RDATE:20231105T020000
END:STANDARD
BEGIN:DAYLIGHT
TZNAME:EDT
DTSTART:20230312T020000
TZOFFSETFROM:-0500
TZOFFSETTO:-0400
RDATE:20240310T020000
END:DAYLIGHT
END:VTIMEZONE
BEGIN:VEVENT
UID:bc033f73-5a46-4c23-9092-46fc2cd51cfc
DTSTAMP:20260426T023314Z
DESCRIPTION:Love knitting? Want to learn? Join the RSS knitting group. Limi
 ted space so registration is important.
DTSTART;TZID=America/New_York:20230406T100000
DTEND;TZID=America/New_York:20230406T113000
LOCATION:
SUMMARY:IN PERSON: Knitting Group
END:VEVENT
END:VCALENDAR
