BEGIN:VCALENDAR
VERSION:2.0
PRODID:-//rssny.org//NONSGML kigkonsult.se iCalcreator 2.30.10//
CALSCALE:GREGORIAN
METHOD:PUBLISH
UID:6f5460ad-0f68-4dd1-8059-090822da0798
X-WR-CALDESC:Open to any skill level.
X-WR-RELCALID:8819c1ca2feb2c5d891a921b8f8dabf7
X-WR-TIMEZONE:America/New_York
BEGIN:VTIMEZONE
TZID:America/New_York
BEGIN:STANDARD
TZNAME:EST
DTSTART:20221106T020000
TZOFFSETFROM:-0400
TZOFFSETTO:-0500
RDATE:20231105T020000
END:STANDARD
BEGIN:DAYLIGHT
TZNAME:EDT
DTSTART:20230312T020000
TZOFFSETFROM:-0500
TZOFFSETTO:-0400
RDATE:20240310T020000
END:DAYLIGHT
END:VTIMEZONE
BEGIN:VEVENT
UID:1a89d0ba-cf3b-46ee-ad8c-c1a5f6921139
DTSTAMP:20260426T023253Z
DESCRIPTION:Open to any skill level.
DTSTART;TZID=America/New_York:20230405T130000
DTEND;TZID=America/New_York:20230405T150000
LOCATION:
SUMMARY:IN PERSON Mahjongg
END:VEVENT
END:VCALENDAR
