BEGIN:VCALENDAR
VERSION:2.0
PRODID:-//rssny.org//NONSGML kigkonsult.se iCalcreator 2.30.10//
CALSCALE:GREGORIAN
METHOD:PUBLISH
UID:26f49716-443c-4822-bfcc-141a87abe99c
X-WR-CALDESC:If you are interested in joining contact Selina Ng at selinang
 @rssny.org
X-WR-RELCALID:58fd287c4a2e2cd5f42648494fbd15ef
X-WR-TIMEZONE:America/New_York
BEGIN:VTIMEZONE
TZID:America/New_York
BEGIN:STANDARD
TZNAME:EST
DTSTART:20221106T020000
TZOFFSETFROM:-0400
TZOFFSETTO:-0500
RDATE:20231105T020000
END:STANDARD
BEGIN:DAYLIGHT
TZNAME:EDT
DTSTART:20230312T020000
TZOFFSETFROM:-0500
TZOFFSETTO:-0400
RDATE:20240310T020000
END:DAYLIGHT
END:VTIMEZONE
BEGIN:VEVENT
UID:fa6b3b39-a979-43f4-9a8d-0bd9b71fbc04
DTSTAMP:20260426T023251Z
DESCRIPTION:If you are interested in joining contact Selina Ng at selinang@
 rssny.org
DTSTART;TZID=America/New_York:20230405T130000
DTEND;TZID=America/New_York:20230405T140000
LOCATION:
SUMMARY:Caregiver Support Group (Hybrid)
END:VEVENT
END:VCALENDAR
