BEGIN:VCALENDAR
VERSION:2.0
PRODID:-//rssny.org//NONSGML kigkonsult.se iCalcreator 2.30.10//
CALSCALE:GREGORIAN
METHOD:PUBLISH
UID:1188574f-0752-41fb-9b55-6cd872fe9baf
X-WR-CALDESC:Register here - https://rssny.org/class-forms/technology-class
 es.html\n\nWant to send an email to a long distance friend?\n\nIn this ses
 sion\, we will revisit email and learn about the basics. We will go over t
 he important parts of an email such as composing\, replying\, adding more 
 than 1 recipient\, and avoiding scams. \n\nThe session is led by Tabitha R
 osa\, the RSS Tech Specialist and Virtual Programs Coordinator.
X-WR-RELCALID:20becd9210dbbed4797e829c586a6dfd
X-WR-TIMEZONE:America/New_York
BEGIN:VTIMEZONE
TZID:America/New_York
BEGIN:STANDARD
TZNAME:EST
DTSTART:20221106T020000
TZOFFSETFROM:-0400
TZOFFSETTO:-0500
RDATE:20231105T020000
END:STANDARD
BEGIN:DAYLIGHT
TZNAME:EDT
DTSTART:20230312T020000
TZOFFSETFROM:-0500
TZOFFSETTO:-0400
RDATE:20240310T020000
END:DAYLIGHT
END:VTIMEZONE
BEGIN:VEVENT
UID:88a817d0-c93e-44c7-9453-563a73d2d125
DTSTAMP:20260426T041155Z
DESCRIPTION:Register here - https://rssny.org/class-forms/technology-classe
 s.html\n\nWant to send an email to a long distance friend?\n\nIn this sess
 ion\, we will revisit email and learn about the basics. We will go over th
 e important parts of an email such as composing\, replying\, adding more t
 han 1 recipient\, and avoiding scams. \n\nThe session is led by Tabitha Ro
 sa\, the RSS Tech Specialist and Virtual Programs Coordinator.
DTSTART;TZID=America/New_York:20230330T110000
DTEND;TZID=America/New_York:20230330T120000
LOCATION:https://rssny.org/class-forms/technology-classes.html
SUMMARY:Tech How-To's: Email Basics (ONLINE)
END:VEVENT
END:VCALENDAR
