BEGIN:VCALENDAR
VERSION:2.0
PRODID:-//rssny.org//NONSGML kigkonsult.se iCalcreator 2.30.10//
CALSCALE:GREGORIAN
METHOD:PUBLISH
UID:94630985-93d1-476d-a766-8772749b5848
X-WR-CALDESC:
X-WR-RELCALID:8649b810e27886f2e7a7bfeb806a074d
X-WR-TIMEZONE:America/New_York
BEGIN:VTIMEZONE
TZID:America/New_York
BEGIN:STANDARD
TZNAME:EST
DTSTART:20221106T020000
TZOFFSETFROM:-0400
TZOFFSETTO:-0500
RDATE:20231105T020000
END:STANDARD
BEGIN:DAYLIGHT
TZNAME:EDT
DTSTART:20230312T020000
TZOFFSETFROM:-0500
TZOFFSETTO:-0400
RDATE:20240310T020000
END:DAYLIGHT
END:VTIMEZONE
BEGIN:VEVENT
UID:eff0ad4f-a4c4-4a88-9ed1-70b07d240da7
DTSTAMP:20260426T043113Z
DESCRIPTION:
DTSTART;TZID=America/New_York:20230330T130000
DTEND;TZID=America/New_York:20230330T140000
LOCATION:No Registration Required
SUMMARY:IN PERSON: Crafting with Recyclables with Susan Guzman
END:VEVENT
END:VCALENDAR
