BEGIN:VCALENDAR
VERSION:2.0
PRODID:-//rssny.org//NONSGML kigkonsult.se iCalcreator 2.30.10//
CALSCALE:GREGORIAN
METHOD:PUBLISH
UID:600221ee-cb99-4c53-b480-18d31f2ed7aa
X-WR-CALDESC:Join us for breakfast at the Center!
X-WR-RELCALID:f554bfb1b7621f4015ffda69f4615849
X-WR-TIMEZONE:America/New_York
BEGIN:VTIMEZONE
TZID:America/New_York
BEGIN:STANDARD
TZNAME:EST
DTSTART:20221106T020000
TZOFFSETFROM:-0400
TZOFFSETTO:-0500
RDATE:20231105T020000
END:STANDARD
BEGIN:DAYLIGHT
TZNAME:EDT
DTSTART:20230312T020000
TZOFFSETFROM:-0500
TZOFFSETTO:-0400
RDATE:20240310T020000
END:DAYLIGHT
END:VTIMEZONE
BEGIN:VEVENT
UID:7aaad384-76e9-4f6b-a007-5159590a5e55
DTSTAMP:20260426T041545Z
DESCRIPTION:Join us for breakfast at the Center!
DTSTART;TZID=America/New_York:20230329T093000
DTEND;TZID=America/New_York:20230329T103000
LOCATION:
SUMMARY:Continental Breakfast (In Center)
END:VEVENT
END:VCALENDAR
