BEGIN:VCALENDAR
VERSION:2.0
PRODID:-//rssny.org//NONSGML kigkonsult.se iCalcreator 2.30.10//
CALSCALE:GREGORIAN
METHOD:PUBLISH
UID:0d6b0867-182d-441d-b651-8c8956dace00
X-WR-CALDESC:We do mixed media collages with a weekly theme.  All supplies 
 are provided.  We welcome any level of experience. Come create wonderful a
 rt pieces with us!
X-WR-RELCALID:1b9c164d9fd8d8567e9c6795d1986631
X-WR-TIMEZONE:America/New_York
BEGIN:VTIMEZONE
TZID:America/New_York
BEGIN:STANDARD
TZNAME:EST
DTSTART:20221106T020000
TZOFFSETFROM:-0400
TZOFFSETTO:-0500
RDATE:20231105T020000
END:STANDARD
BEGIN:DAYLIGHT
TZNAME:EDT
DTSTART:20230312T020000
TZOFFSETFROM:-0500
TZOFFSETTO:-0400
RDATE:20240310T020000
END:DAYLIGHT
END:VTIMEZONE
BEGIN:VEVENT
UID:52420e5e-503d-42ff-b633-f5abf885f760
DTSTAMP:20260426T043350Z
DESCRIPTION:We do mixed media collages with a weekly theme.  All supplies a
 re provided.  We welcome any level of experience. Come create wonderful ar
 t pieces with us!
DTSTART;TZID=America/New_York:20230328T130000
DTEND;TZID=America/New_York:20230328T150000
LOCATION:
SUMMARY:Collage with Annelen (In-Person)
END:VEVENT
END:VCALENDAR
