BEGIN:VCALENDAR
VERSION:2.0
PRODID:-//rssny.org//NONSGML kigkonsult.se iCalcreator 2.30.10//
CALSCALE:GREGORIAN
METHOD:PUBLISH
UID:108bee44-bc9a-4720-9486-1d11c3af3fc3
X-WR-CALDESC:
X-WR-RELCALID:63f7b7b80d40c4ebe474a962feae054b
X-WR-TIMEZONE:America/New_York
BEGIN:VTIMEZONE
TZID:America/New_York
BEGIN:STANDARD
TZNAME:EST
DTSTART:20221106T020000
TZOFFSETFROM:-0400
TZOFFSETTO:-0500
RDATE:20231105T020000
END:STANDARD
BEGIN:DAYLIGHT
TZNAME:EDT
DTSTART:20230312T020000
TZOFFSETFROM:-0500
TZOFFSETTO:-0400
RDATE:20240310T020000
END:DAYLIGHT
END:VTIMEZONE
BEGIN:VEVENT
UID:ddbb6d87-86b6-4d1b-b81b-59b3c36e9dda
DTSTAMP:20260426T041543Z
DESCRIPTION:
DTSTART;TZID=America/New_York:20230324T120000
DTEND;TZID=America/New_York:20230324T130000
LOCATION:
SUMMARY:Lunch (In Center)
END:VEVENT
END:VCALENDAR
