BEGIN:VCALENDAR
VERSION:2.0
PRODID:-//rssny.org//NONSGML kigkonsult.se iCalcreator 2.30.10//
CALSCALE:GREGORIAN
METHOD:PUBLISH
UID:7c9f5e69-2cdc-4a2a-9d04-ec9ca7ff2ec1
X-WR-CALDESC:
X-WR-RELCALID:140a33f5d0a9826c9900ceeaa2e16ff1
X-WR-TIMEZONE:America/New_York
BEGIN:VTIMEZONE
TZID:America/New_York
BEGIN:STANDARD
TZNAME:EST
DTSTART:20221106T020000
TZOFFSETFROM:-0400
TZOFFSETTO:-0500
RDATE:20231105T020000
END:STANDARD
BEGIN:DAYLIGHT
TZNAME:EDT
DTSTART:20230312T020000
TZOFFSETFROM:-0500
TZOFFSETTO:-0400
RDATE:20240310T020000
END:DAYLIGHT
END:VTIMEZONE
BEGIN:VEVENT
UID:2ae38f7f-d0df-4784-836f-29ad359c5867
DTSTAMP:20260426T041540Z
DESCRIPTION:
DTSTART;TZID=America/New_York:20230324T100000
DTEND;TZID=America/New_York:20230324T110000
LOCATION:
SUMMARY:Creative Writing with Robert (IN CENTER)
END:VEVENT
END:VCALENDAR
