BEGIN:VCALENDAR
VERSION:2.0
PRODID:-//rssny.org//NONSGML kigkonsult.se iCalcreator 2.30.10//
CALSCALE:GREGORIAN
METHOD:PUBLISH
UID:94a49973-959a-4b4b-a26c-0e0dd37f6d4b
X-WR-CALDESC:
X-WR-RELCALID:e058b32b04d0894af3bcc655ac0417d2
X-WR-TIMEZONE:America/New_York
BEGIN:VTIMEZONE
TZID:America/New_York
BEGIN:STANDARD
TZNAME:EST
DTSTART:20221106T020000
TZOFFSETFROM:-0400
TZOFFSETTO:-0500
RDATE:20231105T020000
END:STANDARD
BEGIN:DAYLIGHT
TZNAME:EDT
DTSTART:20230312T020000
TZOFFSETFROM:-0500
TZOFFSETTO:-0400
RDATE:20240310T020000
END:DAYLIGHT
END:VTIMEZONE
BEGIN:VEVENT
UID:06f48629-c960-4827-a105-7f0874cdcb24
DTSTAMP:20260426T041541Z
DESCRIPTION:
DTSTART;TZID=America/New_York:20230323T120000
DTEND;TZID=America/New_York:20230323T130000
LOCATION:
SUMMARY:RSS March Birthdays Party (IN CENTER)
END:VEVENT
END:VCALENDAR
