BEGIN:VCALENDAR
VERSION:2.0
PRODID:-//rssny.org//NONSGML kigkonsult.se iCalcreator 2.30.10//
CALSCALE:GREGORIAN
METHOD:PUBLISH
UID:5b41a8a2-218c-49ee-9633-87f2fa8c2caf
X-WR-CALDESC:No acrylics experience necessary. This is a beginning acrylics
  class. Initial supplies will be provided. Please bring your own supplies 
 as well.
X-WR-RELCALID:49d936689b4bd2f4254513268adc22e1
X-WR-TIMEZONE:America/New_York
BEGIN:VTIMEZONE
TZID:America/New_York
BEGIN:STANDARD
TZNAME:EST
DTSTART:20221106T020000
TZOFFSETFROM:-0400
TZOFFSETTO:-0500
RDATE:20231105T020000
END:STANDARD
BEGIN:DAYLIGHT
TZNAME:EDT
DTSTART:20230312T020000
TZOFFSETFROM:-0500
TZOFFSETTO:-0400
RDATE:20240310T020000
END:DAYLIGHT
END:VTIMEZONE
BEGIN:VEVENT
UID:8bbe373f-3883-418d-aa59-6967b02f9882
DTSTAMP:20260426T041826Z
DESCRIPTION:No acrylics experience necessary. This is a beginning acrylics 
 class. Initial supplies will be provided. Please bring your own supplies a
 s well.
DTSTART;TZID=America/New_York:20230323T110000
DTEND;TZID=America/New_York:20230323T120000
LOCATION:
SUMMARY:Acrylic Painting with Ira - In Center
END:VEVENT
END:VCALENDAR
