BEGIN:VCALENDAR
VERSION:2.0
PRODID:-//rssny.org//NONSGML kigkonsult.se iCalcreator 2.30.10//
CALSCALE:GREGORIAN
METHOD:PUBLISH
UID:519dc4b7-8baa-4a21-bd15-8548bf9185e7
X-WR-CALDESC:
X-WR-RELCALID:eec1f4e24fd8f1ead80a53e71cb02bf6
X-WR-TIMEZONE:America/New_York
BEGIN:VTIMEZONE
TZID:America/New_York
BEGIN:STANDARD
TZNAME:EST
DTSTART:20221106T020000
TZOFFSETFROM:-0400
TZOFFSETTO:-0500
RDATE:20231105T020000
END:STANDARD
BEGIN:DAYLIGHT
TZNAME:EDT
DTSTART:20230312T020000
TZOFFSETFROM:-0500
TZOFFSETTO:-0400
RDATE:20240310T020000
END:DAYLIGHT
END:VTIMEZONE
BEGIN:VEVENT
UID:52fb7dd5-50a6-42da-a1fb-1726f4c4ed91
DTSTAMP:20260426T041435Z
DESCRIPTION:
DTSTART;TZID=America/New_York:20230323T120000
DTEND;TZID=America/New_York:20230323T130000
LOCATION:
SUMMARY:Lunch (In Center)
END:VEVENT
END:VCALENDAR
