BEGIN:VCALENDAR
VERSION:2.0
PRODID:-//rssny.org//NONSGML kigkonsult.se iCalcreator 2.30.10//
CALSCALE:GREGORIAN
METHOD:PUBLISH
UID:e142de11-0fba-4378-81ae-64888f50d0aa
X-WR-CALDESC:Join RSS for a day celebrating Women's History Month and remar
 kable women (like you!) with special events\, giveaways and more!\n\n9:30 
  Breakfast Club\n10 AM:  Self-Massage with Kathleen (Hybrid)\n10 AM:  Bake
  Sale\n10 AM:  What is Women's History Month Presentation (Hybrid)\n10:30 
 AM:  Vision Boards with April Lombardi (In Center)\n11 AM:  Changing Habit
 s Workshop\n12 PM:  Lunch\n1 PM:  Some important women in history may be p
 aying in-person visits to RSS......\n2 PM:   Folk Dancing presentation and
  a dance playlist of only women singers and composers\n3 PM:  Presentation
 :  Eleanor Roosevelt: Communicator to the World with a light meal and tea.
  (In Center). This presentation will also be done online on March 28 at 5 
 PM.  To learn more about this presentation - https://rssny.org/classes/all
 -classes.html/event/2023/03/22/eleanor-roosevelt-communicator-to-the-world
 -in-center-march-22-at-3-pm-online-march-28-at-5-pm-/422751\n
X-WR-RELCALID:d0c174a323d7d5cf10c718f0ecdd20e1
X-WR-TIMEZONE:America/New_York
BEGIN:VTIMEZONE
TZID:America/New_York
BEGIN:STANDARD
TZNAME:EST
DTSTART:20221106T020000
TZOFFSETFROM:-0400
TZOFFSETTO:-0500
RDATE:20231105T020000
END:STANDARD
BEGIN:DAYLIGHT
TZNAME:EDT
DTSTART:20230312T020000
TZOFFSETFROM:-0500
TZOFFSETTO:-0400
RDATE:20240310T020000
END:DAYLIGHT
END:VTIMEZONE
BEGIN:VEVENT
UID:f9957bd2-4830-4460-b32a-eb7ccf7af7a8
DTSTAMP:20260426T041831Z
DESCRIPTION:Join RSS for a day celebrating Women's History Month and remark
 able women (like you!) with special events\, giveaways and more!\n\n9:30  
 Breakfast Club\n10 AM:  Self-Massage with Kathleen (Hybrid)\n10 AM:  Bake 
 Sale\n10 AM:  What is Women's History Month Presentation (Hybrid)\n10:30 A
 M:  Vision Boards with April Lombardi (In Center)\n11 AM:  Changing Habits
  Workshop\n12 PM:  Lunch\n1 PM:  Some important women in history may be pa
 ying in-person visits to RSS......\n2 PM:   Folk Dancing presentation and 
 a dance playlist of only women singers and composers\n3 PM:  Presentation:
   Eleanor Roosevelt: Communicator to the World with a light meal and tea. 
 (In Center). This presentation will also be done online on March 28 at 5 P
 M.  To learn more about this presentation - https://rssny.org/classes/all-
 classes.html/event/2023/03/22/eleanor-roosevelt-communicator-to-the-world-
 in-center-march-22-at-3-pm-online-march-28-at-5-pm-/422751\n
DTSTART;TZID=America/New_York:20230322T093000
DTEND;TZID=America/New_York:20230322T170000
LOCATION:
SUMMARY:Women's History Month Celebration
END:VEVENT
END:VCALENDAR
