BEGIN:VCALENDAR
VERSION:2.0
PRODID:-//rssny.org//NONSGML kigkonsult.se iCalcreator 2.30.10//
CALSCALE:GREGORIAN
METHOD:PUBLISH
UID:984c369c-0321-4593-937b-e90293fb9630
X-WR-CALDESC:Open to any skill level.
X-WR-RELCALID:e01d71694aff252a5ffa08ea49665f28
X-WR-TIMEZONE:America/New_York
BEGIN:VTIMEZONE
TZID:America/New_York
BEGIN:STANDARD
TZNAME:EST
DTSTART:20221106T020000
TZOFFSETFROM:-0400
TZOFFSETTO:-0500
RDATE:20231105T020000
END:STANDARD
BEGIN:DAYLIGHT
TZNAME:EDT
DTSTART:20230312T020000
TZOFFSETFROM:-0500
TZOFFSETTO:-0400
RDATE:20240310T020000
END:DAYLIGHT
END:VTIMEZONE
BEGIN:VEVENT
UID:b6cc212c-c2aa-461e-b7b1-ab807d085756
DTSTAMP:20260426T041954Z
DESCRIPTION:Open to any skill level.
DTSTART;TZID=America/New_York:20230322T130000
DTEND;TZID=America/New_York:20230322T150000
LOCATION:
SUMMARY:IN PERSON Mahjongg
END:VEVENT
END:VCALENDAR
