BEGIN:VCALENDAR
VERSION:2.0
PRODID:-//rssny.org//NONSGML kigkonsult.se iCalcreator 2.30.10//
CALSCALE:GREGORIAN
METHOD:PUBLISH
UID:c52d1f7a-ff20-4a2f-bd77-57479e9cefe7
X-WR-CALDESC:Functional Movement for Older Adults at all levels.  Exercises
  can be performed while seated.\n\nLed by instructor Terry Roche. Terry Ro
 che. Terry is a personal trainer\, Certified AAPT/ACE. DSW Fitness Exercis
 e and Parkinson's Disease\, IDEA Exercise & Functional Training for Older 
 Adults
X-WR-RELCALID:26d0e69f91b66879e77ec5e57dc9ae23
X-WR-TIMEZONE:America/New_York
BEGIN:VTIMEZONE
TZID:America/New_York
BEGIN:STANDARD
TZNAME:EST
DTSTART:20221106T020000
TZOFFSETFROM:-0400
TZOFFSETTO:-0500
RDATE:20231105T020000
END:STANDARD
BEGIN:DAYLIGHT
TZNAME:EDT
DTSTART:20230312T020000
TZOFFSETFROM:-0500
TZOFFSETTO:-0400
RDATE:20240310T020000
END:DAYLIGHT
END:VTIMEZONE
BEGIN:VEVENT
UID:3f7b8874-1759-4e70-9694-1dba141fb38d
DTSTAMP:20260426T042141Z
DESCRIPTION:Functional Movement for Older Adults at all levels.  Exercises 
 can be performed while seated.\n\nLed by instructor Terry Roche. Terry Roc
 he. Terry is a personal trainer\, Certified AAPT/ACE. DSW Fitness Exercise
  and Parkinson's Disease\, IDEA Exercise & Functional Training for Older A
 dults
DTSTART;TZID=America/New_York:20230322T110000
DTEND;TZID=America/New_York:20230322T120000
LOCATION:
SUMMARY:NO CLASS TODAY!  Exercise for Mobility with Terry Roche (IN CENTER)
END:VEVENT
END:VCALENDAR
