BEGIN:VCALENDAR
VERSION:2.0
PRODID:-//rssny.org//NONSGML kigkonsult.se iCalcreator 2.30.10//
CALSCALE:GREGORIAN
METHOD:PUBLISH
UID:427dd34f-856a-4637-b3a3-fb790d2cd54e
X-WR-CALDESC:Reservations Required. Call 718.884.5900 to have your blood pr
 essure taken by the RSS nurse.
X-WR-RELCALID:626e07086e9bf58144623f4d3b9c55a3
X-WR-TIMEZONE:America/New_York
BEGIN:VTIMEZONE
TZID:America/New_York
BEGIN:STANDARD
TZNAME:EST
DTSTART:20221106T020000
TZOFFSETFROM:-0400
TZOFFSETTO:-0500
RDATE:20231105T020000
END:STANDARD
BEGIN:DAYLIGHT
TZNAME:EDT
DTSTART:20230312T020000
TZOFFSETFROM:-0500
TZOFFSETTO:-0400
RDATE:20240310T020000
END:DAYLIGHT
END:VTIMEZONE
BEGIN:VEVENT
UID:305afd48-40bb-429f-8355-7f5cf520c2f7
DTSTAMP:20260426T043631Z
DESCRIPTION:Reservations Required. Call 718.884.5900 to have your blood pre
 ssure taken by the RSS nurse.
DTSTART;TZID=America/New_York:20230321T100000
DTEND;TZID=America/New_York:20230321T110000
LOCATION:Reservations Required. Call 718.884.5900
SUMMARY:Blood Pressure Taken with Petronella Phillips\, RN (IN CENTER)
END:VEVENT
END:VCALENDAR
