BEGIN:VCALENDAR
VERSION:2.0
PRODID:-//rssny.org//NONSGML kigkonsult.se iCalcreator 2.30.10//
CALSCALE:GREGORIAN
METHOD:PUBLISH
UID:ba0aaca8-05c0-4b25-b6a4-57b0e01e4abc
X-WR-CALDESC:ACBL-accredited duplicate game (participants can earn Masterpo
 ints and the director (me) is ACBL-certified. Any level skill level is wel
 come.\n\nIf you are interested in joining send an email to info@rssny.org 
 or call 718.884.5900
X-WR-RELCALID:dcf0e53e29c57bf33041ff3592f0d20f
X-WR-TIMEZONE:America/New_York
BEGIN:VTIMEZONE
TZID:America/New_York
BEGIN:STANDARD
TZNAME:EST
DTSTART:20221106T020000
TZOFFSETFROM:-0400
TZOFFSETTO:-0500
RDATE:20231105T020000
END:STANDARD
BEGIN:DAYLIGHT
TZNAME:EDT
DTSTART:20230312T020000
TZOFFSETFROM:-0500
TZOFFSETTO:-0400
RDATE:20240310T020000
END:DAYLIGHT
END:VTIMEZONE
BEGIN:VEVENT
UID:48fec552-73ef-42e5-aa3a-c00faeea3f65
DTSTAMP:20260426T042824Z
DESCRIPTION:ACBL-accredited duplicate game (participants can earn Masterpoi
 nts and the director (me) is ACBL-certified. Any level skill level is welc
 ome.\n\nIf you are interested in joining send an email to info@rssny.org o
 r call 718.884.5900
DTSTART;TZID=America/New_York:20230320T124500
DTEND;TZID=America/New_York:20230320T143000
LOCATION:
SUMMARY:On-Site: Duplicate Bridge with Rich (Invitation Only)
END:VEVENT
END:VCALENDAR
