BEGIN:VCALENDAR
VERSION:2.0
PRODID:-//rssny.org//NONSGML kigkonsult.se iCalcreator 2.30.10//
CALSCALE:GREGORIAN
METHOD:PUBLISH
UID:b1a9c580-321f-4f2f-961e-fa336b5a3c9b
X-WR-CALDESC:
X-WR-RELCALID:e7b5a73e7d7e0b63b928f97680c18a62
X-WR-TIMEZONE:America/New_York
BEGIN:VTIMEZONE
TZID:America/New_York
BEGIN:STANDARD
TZNAME:EST
DTSTART:20221106T020000
TZOFFSETFROM:-0400
TZOFFSETTO:-0500
RDATE:20231105T020000
END:STANDARD
BEGIN:DAYLIGHT
TZNAME:EDT
DTSTART:20230312T020000
TZOFFSETFROM:-0500
TZOFFSETTO:-0400
RDATE:20240310T020000
END:DAYLIGHT
END:VTIMEZONE
BEGIN:VEVENT
UID:50a6fa43-3bf3-4f63-b3d3-05e7287dec3b
DTSTAMP:20260426T041435Z
DESCRIPTION:
DTSTART;TZID=America/New_York:20230320T120000
DTEND;TZID=America/New_York:20230320T130000
LOCATION:
SUMMARY:Lunch (In Center)
END:VEVENT
END:VCALENDAR
