BEGIN:VCALENDAR
VERSION:2.0
PRODID:-//rssny.org//NONSGML kigkonsult.se iCalcreator 2.30.10//
CALSCALE:GREGORIAN
METHOD:PUBLISH
UID:4c428fcf-f1ea-4eb3-8a95-a5ebbdd1da23
X-WR-CALDESC:Click here to register - https://rssny.org/class-forms/concert
 s-in-motion.html\n\nSpend an enjoyable hour listening and learning about C
 lassical music with professional musicians from Concerts in Motion.
X-WR-RELCALID:a1f12bb4d3221fbcb6a23939ac82bd33
X-WR-TIMEZONE:America/New_York
BEGIN:VTIMEZONE
TZID:America/New_York
BEGIN:STANDARD
TZNAME:EST
DTSTART:20221106T020000
TZOFFSETFROM:-0400
TZOFFSETTO:-0500
RDATE:20231105T020000
END:STANDARD
BEGIN:DAYLIGHT
TZNAME:EDT
DTSTART:20230312T020000
TZOFFSETFROM:-0500
TZOFFSETTO:-0400
RDATE:20240310T020000
END:DAYLIGHT
END:VTIMEZONE
BEGIN:VEVENT
UID:393f7297-0dfe-4d93-86bf-ca41b0716527
DTSTAMP:20260426T042500Z
DESCRIPTION:Click here to register - https://rssny.org/class-forms/concerts
 -in-motion.html\n\nSpend an enjoyable hour listening and learning about Cl
 assical music with professional musicians from Concerts in Motion.
DTSTART;TZID=America/New_York:20230320T120000
DTEND;TZID=America/New_York:20230320T130000
LOCATION:https://rssny.org/class-forms/concerts-in-motion.html
SUMMARY:Concerts in Motion: Classical (ONLINE - THIS IS NOT AN RSS CLASS)
END:VEVENT
END:VCALENDAR
