BEGIN:VCALENDAR
VERSION:2.0
PRODID:-//rssny.org//NONSGML kigkonsult.se iCalcreator 2.30.10//
CALSCALE:GREGORIAN
METHOD:PUBLISH
UID:31572e32-dd9b-4201-9802-5a458b298c56
X-WR-CALDESC:Registration Required\n\nThe RSS St. Patrick's Day Party is BA
 CK!\n\nEnjoy a day of fun\, great food (some corn beef and cabbage)\, musi
 c and dancing. BRING A FRIEND!\n\nYou will hear the beautiful voice of sop
 rano Cheryl Warfield. Listen to her beautiful voice here - https://youtu.b
 e/7stskbP6qa0\n\nWe will also see some traditional dances to watch and lea
 rn.\n\nSee you there!\n\nYay\, we're back!
X-WR-RELCALID:ea875dacb53ff8b4373df34e5779c8c3
X-WR-TIMEZONE:America/New_York
BEGIN:VTIMEZONE
TZID:America/New_York
BEGIN:STANDARD
TZNAME:EST
DTSTART:20221106T020000
TZOFFSETFROM:-0400
TZOFFSETTO:-0500
RDATE:20231105T020000
END:STANDARD
BEGIN:DAYLIGHT
TZNAME:EDT
DTSTART:20230312T020000
TZOFFSETFROM:-0500
TZOFFSETTO:-0400
RDATE:20240310T020000
END:DAYLIGHT
END:VTIMEZONE
BEGIN:VEVENT
UID:d7c1cdf3-48b0-4bd4-9b3c-13558bc02153
DTSTAMP:20260426T041424Z
DESCRIPTION:Registration Required\n\nThe RSS St. Patrick's Day Party is BAC
 K!\n\nEnjoy a day of fun\, great food (some corn beef and cabbage)\, music
  and dancing. BRING A FRIEND!\n\nYou will hear the beautiful voice of sopr
 ano Cheryl Warfield. Listen to her beautiful voice here - https://youtu.be
 /7stskbP6qa0\n\nWe will also see some traditional dances to watch and lear
 n.\n\nSee you there!\n\nYay\, we're back!
DTSTART;TZID=America/New_York:20230319T100000
DTEND;TZID=America/New_York:20230319T150000
LOCATION:
SUMMARY:St. Patrick's Day Party (In Center)
END:VEVENT
END:VCALENDAR
