BEGIN:VCALENDAR
VERSION:2.0
PRODID:-//rssny.org//NONSGML kigkonsult.se iCalcreator 2.30.10//
CALSCALE:GREGORIAN
METHOD:PUBLISH
UID:6c6e5dfb-998f-46dd-ac5f-8c30170c4d98
X-WR-CALDESC:If you are interested in joining call 718.884.5900 or send an 
 email to info@rssny.org
X-WR-RELCALID:0cf278e62c40cbd006c204fb7210a8e1
X-WR-TIMEZONE:America/New_York
BEGIN:VTIMEZONE
TZID:America/New_York
BEGIN:STANDARD
TZNAME:EST
DTSTART:20221106T020000
TZOFFSETFROM:-0400
TZOFFSETTO:-0500
RDATE:20231105T020000
END:STANDARD
BEGIN:DAYLIGHT
TZNAME:EDT
DTSTART:20230312T020000
TZOFFSETFROM:-0500
TZOFFSETTO:-0400
RDATE:20240310T020000
END:DAYLIGHT
END:VTIMEZONE
BEGIN:VEVENT
UID:b46d1692-dc79-40a4-8e87-fb534e82e23a
DTSTAMP:20260426T041140Z
DESCRIPTION:If you are interested in joining call 718.884.5900 or send an e
 mail to info@rssny.org
DTSTART;TZID=America/New_York:20230316T130000
DTEND;TZID=America/New_York:20230316T140000
LOCATION:
SUMMARY:Grief Support Group with Susan
END:VEVENT
END:VCALENDAR
