BEGIN:VCALENDAR
VERSION:2.0
PRODID:-//rssny.org//NONSGML kigkonsult.se iCalcreator 2.30.10//
CALSCALE:GREGORIAN
METHOD:PUBLISH
UID:71b26858-9195-49de-bfd1-6d646b4b9e09
X-WR-CALDESC:Love knitting? Want to learn? Join the RSS knitting group. Lim
 ited space so registration is important.
X-WR-RELCALID:42a377f50bed8a0b07c640620d3421db
X-WR-TIMEZONE:America/New_York
BEGIN:VTIMEZONE
TZID:America/New_York
BEGIN:STANDARD
TZNAME:EST
DTSTART:20221106T020000
TZOFFSETFROM:-0400
TZOFFSETTO:-0500
RDATE:20231105T020000
END:STANDARD
BEGIN:DAYLIGHT
TZNAME:EDT
DTSTART:20230312T020000
TZOFFSETFROM:-0500
TZOFFSETTO:-0400
RDATE:20240310T020000
END:DAYLIGHT
END:VTIMEZONE
BEGIN:VEVENT
UID:f9be12c1-6b2e-475f-b3bf-4bec822925ab
DTSTAMP:20260426T041659Z
DESCRIPTION:Love knitting? Want to learn? Join the RSS knitting group. Limi
 ted space so registration is important.
DTSTART;TZID=America/New_York:20230316T100000
DTEND;TZID=America/New_York:20230316T113000
LOCATION:
SUMMARY:IN PERSON: Knitting Group
END:VEVENT
END:VCALENDAR
