BEGIN:VCALENDAR
VERSION:2.0
PRODID:-//rssny.org//NONSGML kigkonsult.se iCalcreator 2.30.10//
CALSCALE:GREGORIAN
METHOD:PUBLISH
UID:19eeea3b-3b04-4ff6-82c5-1de5a87fb2a3
X-WR-CALDESC:If you are interested in joining contact Selina Ng at selinang
 @rssny.org
X-WR-RELCALID:bcd503f782929707734694b92aa269d4
X-WR-TIMEZONE:America/New_York
BEGIN:VTIMEZONE
TZID:America/New_York
BEGIN:STANDARD
TZNAME:EST
DTSTART:20221106T020000
TZOFFSETFROM:-0400
TZOFFSETTO:-0500
RDATE:20231105T020000
END:STANDARD
BEGIN:DAYLIGHT
TZNAME:EDT
DTSTART:20230312T020000
TZOFFSETFROM:-0500
TZOFFSETTO:-0400
RDATE:20240310T020000
END:DAYLIGHT
END:VTIMEZONE
BEGIN:VEVENT
UID:585efd8c-63bb-47c4-b0f3-b117f9357660
DTSTAMP:20260426T042055Z
DESCRIPTION:If you are interested in joining contact Selina Ng at selinang@
 rssny.org
DTSTART;TZID=America/New_York:20230315T130000
DTEND;TZID=America/New_York:20230315T140000
LOCATION:
SUMMARY:Caregiver Support Group (Hybrid)
END:VEVENT
END:VCALENDAR
