BEGIN:VCALENDAR
VERSION:2.0
PRODID:-//rssny.org//NONSGML kigkonsult.se iCalcreator 2.30.10//
CALSCALE:GREGORIAN
METHOD:PUBLISH
UID:a4ccff09-68ad-43ae-805f-9e38bf1475e4
X-WR-CALDESC:Open to any skill level.
X-WR-RELCALID:90e10d5242c6abe2af94d191ae870224
X-WR-TIMEZONE:America/New_York
BEGIN:VTIMEZONE
TZID:America/New_York
BEGIN:STANDARD
TZNAME:EST
DTSTART:20221106T020000
TZOFFSETFROM:-0400
TZOFFSETTO:-0500
RDATE:20231105T020000
END:STANDARD
BEGIN:DAYLIGHT
TZNAME:EDT
DTSTART:20220313T020000
TZOFFSETFROM:-0500
TZOFFSETTO:-0400
RDATE:20230312T020000
RDATE:20240310T020000
END:DAYLIGHT
END:VTIMEZONE
BEGIN:VEVENT
UID:a834ca17-9325-4e17-851c-8daa7e45f71e
DTSTAMP:20260426T041433Z
DESCRIPTION:Open to any skill level.
DTSTART;TZID=America/New_York:20230313T130000
DTEND;TZID=America/New_York:20230313T150000
LOCATION:
SUMMARY:IN PERSON Mahjongg
END:VEVENT
END:VCALENDAR
