BEGIN:VCALENDAR
VERSION:2.0
PRODID:-//rssny.org//NONSGML kigkonsult.se iCalcreator 2.30.10//
CALSCALE:GREGORIAN
METHOD:PUBLISH
UID:023b5e81-857b-4a03-bdbc-5d7d99747fe4
X-WR-CALDESC:
X-WR-RELCALID:8b3ad80aba4209ffa67817bcf06e552a
X-WR-TIMEZONE:America/New_York
BEGIN:VTIMEZONE
TZID:America/New_York
BEGIN:STANDARD
TZNAME:EST
DTSTART:20221106T020000
TZOFFSETFROM:-0400
TZOFFSETTO:-0500
RDATE:20231105T020000
END:STANDARD
BEGIN:DAYLIGHT
TZNAME:EDT
DTSTART:20220313T020000
TZOFFSETFROM:-0500
TZOFFSETTO:-0400
RDATE:20230312T020000
RDATE:20240310T020000
END:DAYLIGHT
END:VTIMEZONE
BEGIN:VEVENT
UID:21ea2c9e-38d9-4a3b-b4cd-819df1ac6f00
DTSTAMP:20260426T041435Z
DESCRIPTION:
DTSTART;TZID=America/New_York:20230310T120000
DTEND;TZID=America/New_York:20230310T130000
LOCATION:
SUMMARY:Lunch (In Center)
END:VEVENT
END:VCALENDAR
