BEGIN:VCALENDAR
VERSION:2.0
PRODID:-//rssny.org//NONSGML kigkonsult.se iCalcreator 2.30.10//
CALSCALE:GREGORIAN
METHOD:PUBLISH
UID:b6239a15-76bc-44c5-b06f-ecf76f215bb7
X-WR-CALDESC:No acrylics experience necessary. This is a beginning acrylics
  class. Initial supplies will be provided. Please bring your own supplies 
 as well.
X-WR-RELCALID:f2f10d8b8d453502eb3d5c75df047e7e
X-WR-TIMEZONE:America/New_York
BEGIN:VTIMEZONE
TZID:America/New_York
BEGIN:STANDARD
TZNAME:EST
DTSTART:20221106T020000
TZOFFSETFROM:-0400
TZOFFSETTO:-0500
RDATE:20231105T020000
END:STANDARD
BEGIN:DAYLIGHT
TZNAME:EDT
DTSTART:20220313T020000
TZOFFSETFROM:-0500
TZOFFSETTO:-0400
RDATE:20230312T020000
RDATE:20240310T020000
END:DAYLIGHT
END:VTIMEZONE
BEGIN:VEVENT
UID:bb19a358-ad00-4d6f-a2f9-201d96c4e1d1
DTSTAMP:20260426T042131Z
DESCRIPTION:No acrylics experience necessary. This is a beginning acrylics 
 class. Initial supplies will be provided. Please bring your own supplies a
 s well.
DTSTART;TZID=America/New_York:20230309T110000
DTEND;TZID=America/New_York:20230309T120000
LOCATION:
SUMMARY:Acrylic Painting with Ira - In Center
END:VEVENT
END:VCALENDAR
