BEGIN:VCALENDAR
VERSION:2.0
PRODID:-//rssny.org//NONSGML kigkonsult.se iCalcreator 2.30.10//
CALSCALE:GREGORIAN
METHOD:PUBLISH
UID:6ae45207-17b4-4e66-8f12-c45c01b89695
X-WR-CALDESC:
X-WR-RELCALID:465815957a88274a8dfb14078065d75a
X-WR-TIMEZONE:America/New_York
BEGIN:VTIMEZONE
TZID:America/New_York
BEGIN:STANDARD
TZNAME:EST
DTSTART:20221106T020000
TZOFFSETFROM:-0400
TZOFFSETTO:-0500
RDATE:20231105T020000
END:STANDARD
BEGIN:DAYLIGHT
TZNAME:EDT
DTSTART:20220313T020000
TZOFFSETFROM:-0500
TZOFFSETTO:-0400
RDATE:20230312T020000
RDATE:20240310T020000
END:DAYLIGHT
END:VTIMEZONE
BEGIN:VEVENT
UID:d00edc2f-fccd-4eb7-bcc1-957acad95ac9
DTSTAMP:20260426T042308Z
DESCRIPTION:
DTSTART;TZID=America/New_York:20230308T130000
DTEND;TZID=America/New_York:20230308T150000
LOCATION:
SUMMARY:Movies (In Center)
END:VEVENT
END:VCALENDAR
