BEGIN:VCALENDAR
VERSION:2.0
PRODID:-//rssny.org//NONSGML kigkonsult.se iCalcreator 2.30.10//
CALSCALE:GREGORIAN
METHOD:PUBLISH
UID:d765641a-3c06-4418-a6ef-78dc7d44c38c
X-WR-CALDESC:Click here to register - https://rssny.org/class-forms/concert
 s-in-motion.html\n\nSpend an enjoyable hour listening and learning about C
 hinese music with professional musicians from Concerts in Motion.
X-WR-RELCALID:fc124eb663fd86adf9d991d7c375f43f
X-WR-TIMEZONE:America/New_York
BEGIN:VTIMEZONE
TZID:America/New_York
BEGIN:STANDARD
TZNAME:EST
DTSTART:20221106T020000
TZOFFSETFROM:-0400
TZOFFSETTO:-0500
RDATE:20231105T020000
END:STANDARD
BEGIN:DAYLIGHT
TZNAME:EDT
DTSTART:20220313T020000
TZOFFSETFROM:-0500
TZOFFSETTO:-0400
RDATE:20230312T020000
RDATE:20240310T020000
END:DAYLIGHT
END:VTIMEZONE
BEGIN:VEVENT
UID:6718832d-e9e5-4481-b7e8-bfec4f4b5409
DTSTAMP:20260426T041853Z
DESCRIPTION:Click here to register - https://rssny.org/class-forms/concerts
 -in-motion.html\n\nSpend an enjoyable hour listening and learning about Ch
 inese music with professional musicians from Concerts in Motion.
DTSTART;TZID=America/New_York:20230308T130000
DTEND;TZID=America/New_York:20230308T140000
LOCATION:https://rssny.org/class-forms/concerts-in-motion.html
SUMMARY:Concerts in Motion: Chinese
END:VEVENT
END:VCALENDAR
