BEGIN:VCALENDAR
VERSION:2.0
PRODID:-//rssny.org//NONSGML kigkonsult.se iCalcreator 2.30.10//
CALSCALE:GREGORIAN
METHOD:PUBLISH
UID:9d5841a1-6282-4a78-b610-e949daa72be7
X-WR-CALDESC:Join us for breakfast at the Center!
X-WR-RELCALID:19e09ce1670b490663f2078ac2c67c8c
X-WR-TIMEZONE:America/New_York
BEGIN:VTIMEZONE
TZID:America/New_York
BEGIN:STANDARD
TZNAME:EST
DTSTART:20221106T020000
TZOFFSETFROM:-0400
TZOFFSETTO:-0500
RDATE:20231105T020000
END:STANDARD
BEGIN:DAYLIGHT
TZNAME:EDT
DTSTART:20220313T020000
TZOFFSETFROM:-0500
TZOFFSETTO:-0400
RDATE:20230312T020000
RDATE:20240310T020000
END:DAYLIGHT
END:VTIMEZONE
BEGIN:VEVENT
UID:5ca3f4b7-623b-4fb9-accd-c6f36cd029fd
DTSTAMP:20260426T041312Z
DESCRIPTION:Join us for breakfast at the Center!
DTSTART;TZID=America/New_York:20230308T093000
DTEND;TZID=America/New_York:20230308T103000
LOCATION:
SUMMARY:Continental Breakfast (In Center)
END:VEVENT
END:VCALENDAR
