BEGIN:VCALENDAR
VERSION:2.0
PRODID:-//rssny.org//NONSGML kigkonsult.se iCalcreator 2.30.10//
CALSCALE:GREGORIAN
METHOD:PUBLISH
UID:a1d0f471-e3cb-4e99-acc7-a9543e605b86
X-WR-CALDESC:Come join Horace Mann students for a fun and relaxed afternoon
  enjoying some easy conversation and a fun art project.
X-WR-RELCALID:be7904eba327defbb8c0080dd09bdffb
X-WR-TIMEZONE:America/New_York
BEGIN:VTIMEZONE
TZID:America/New_York
BEGIN:STANDARD
TZNAME:EST
DTSTART:20221106T020000
TZOFFSETFROM:-0400
TZOFFSETTO:-0500
RDATE:20231105T020000
END:STANDARD
BEGIN:DAYLIGHT
TZNAME:EDT
DTSTART:20220313T020000
TZOFFSETFROM:-0500
TZOFFSETTO:-0400
RDATE:20230312T020000
RDATE:20240310T020000
END:DAYLIGHT
END:VTIMEZONE
BEGIN:VEVENT
UID:2657eaf4-4c67-45ad-b28e-1ea565b37564
DTSTAMP:20260426T041853Z
DESCRIPTION:Come join Horace Mann students for a fun and relaxed afternoon 
 enjoying some easy conversation and a fun art project.
DTSTART;TZID=America/New_York:20230307T153000
DTEND;TZID=America/New_York:20230307T163000
LOCATION:
SUMMARY:Horace Mann Service Learning: Art and Chat (In Person)
END:VEVENT
END:VCALENDAR
