BEGIN:VCALENDAR
VERSION:2.0
PRODID:-//rssny.org//NONSGML kigkonsult.se iCalcreator 2.30.10//
CALSCALE:GREGORIAN
METHOD:PUBLISH
UID:4bb584ea-8c77-4860-a10c-b496db15f32d
X-WR-CALDESC:Register here - https://rssny.org/reopening-forms/collage.html
 \n\nUse all different kinds of media to create wonderful art pieces.
X-WR-RELCALID:3dfcf9b4aabb8e3417033220f99d07a8
X-WR-TIMEZONE:America/New_York
BEGIN:VTIMEZONE
TZID:America/New_York
BEGIN:STANDARD
TZNAME:EST
DTSTART:20221106T020000
TZOFFSETFROM:-0400
TZOFFSETTO:-0500
RDATE:20231105T020000
END:STANDARD
BEGIN:DAYLIGHT
TZNAME:EDT
DTSTART:20220313T020000
TZOFFSETFROM:-0500
TZOFFSETTO:-0400
RDATE:20230312T020000
RDATE:20240310T020000
END:DAYLIGHT
END:VTIMEZONE
BEGIN:VEVENT
UID:e516f9f5-7e1b-4a82-9bab-8ba8fca29fc2
DTSTAMP:20260426T043341Z
DESCRIPTION:Register here - https://rssny.org/reopening-forms/collage.html
 \n\nUse all different kinds of media to create wonderful art pieces.
DTSTART;TZID=America/New_York:20230307T130000
DTEND;TZID=America/New_York:20230307T150000
LOCATION:https://rssny.org/reopening-forms/collage.html
SUMMARY:Collage with Annelen (In-Person)
END:VEVENT
END:VCALENDAR
