BEGIN:VCALENDAR
VERSION:2.0
PRODID:-//rssny.org//NONSGML kigkonsult.se iCalcreator 2.30.10//
CALSCALE:GREGORIAN
METHOD:PUBLISH
UID:624bee6d-b88d-475e-aff3-3e4ca7883bce
X-WR-CALDESC:Reservations Required. Call 718.884.5900 to have your blood pr
 essure taken by the RSS nurse.
X-WR-RELCALID:444c56e603907fb1b073c5e9d7ed8ec1
X-WR-TIMEZONE:America/New_York
BEGIN:VTIMEZONE
TZID:America/New_York
BEGIN:STANDARD
TZNAME:EST
DTSTART:20221106T020000
TZOFFSETFROM:-0400
TZOFFSETTO:-0500
RDATE:20231105T020000
END:STANDARD
BEGIN:DAYLIGHT
TZNAME:EDT
DTSTART:20220313T020000
TZOFFSETFROM:-0500
TZOFFSETTO:-0400
RDATE:20230312T020000
RDATE:20240310T020000
END:DAYLIGHT
END:VTIMEZONE
BEGIN:VEVENT
UID:36da4bb6-f43d-4091-ad0a-234ca95f6039
DTSTAMP:20260426T043753Z
DESCRIPTION:Reservations Required. Call 718.884.5900 to have your blood pre
 ssure taken by the RSS nurse.
DTSTART;TZID=America/New_York:20230307T100000
DTEND;TZID=America/New_York:20230307T110000
LOCATION:Reservations Required. Call 718.884.5900
SUMMARY:Blood Pressure Taken with Petronella Phillips\, RN (IN CENTER)
END:VEVENT
END:VCALENDAR
