BEGIN:VCALENDAR
VERSION:2.0
PRODID:-//rssny.org//NONSGML kigkonsult.se iCalcreator 2.30.10//
CALSCALE:GREGORIAN
METHOD:PUBLISH
UID:07a196b0-add2-4c7a-8f15-610955075694
X-WR-CALDESC:Open to any skill level.
X-WR-RELCALID:66d9392c9d01c296f2f101c39111ea7c
X-WR-TIMEZONE:America/New_York
BEGIN:VTIMEZONE
TZID:America/New_York
BEGIN:STANDARD
TZNAME:EST
DTSTART:20221106T020000
TZOFFSETFROM:-0400
TZOFFSETTO:-0500
RDATE:20231105T020000
END:STANDARD
BEGIN:DAYLIGHT
TZNAME:EDT
DTSTART:20220313T020000
TZOFFSETFROM:-0500
TZOFFSETTO:-0400
RDATE:20230312T020000
RDATE:20240310T020000
END:DAYLIGHT
END:VTIMEZONE
BEGIN:VEVENT
UID:61082c08-2ca0-400a-b733-57ed60ff165c
DTSTAMP:20260426T041706Z
DESCRIPTION:Open to any skill level.
DTSTART;TZID=America/New_York:20230306T130000
DTEND;TZID=America/New_York:20230306T150000
LOCATION:
SUMMARY:IN PERSON Mahjongg
END:VEVENT
END:VCALENDAR
