BEGIN:VCALENDAR
VERSION:2.0
PRODID:-//rssny.org//NONSGML kigkonsult.se iCalcreator 2.30.10//
CALSCALE:GREGORIAN
METHOD:PUBLISH
UID:5f2ff4d6-874a-4a9b-b3f0-68cfc6018efd
X-WR-CALDESC:This group meets weekly in the Center to discuss news\, the cu
 rrent state of the world and more!
X-WR-RELCALID:81aae8499987da53cdbe4f3c1fe815dd
X-WR-TIMEZONE:America/New_York
BEGIN:VTIMEZONE
TZID:America/New_York
BEGIN:STANDARD
TZNAME:EST
DTSTART:20221106T020000
TZOFFSETFROM:-0400
TZOFFSETTO:-0500
RDATE:20231105T020000
END:STANDARD
BEGIN:DAYLIGHT
TZNAME:EDT
DTSTART:20220313T020000
TZOFFSETFROM:-0500
TZOFFSETTO:-0400
RDATE:20230312T020000
RDATE:20240310T020000
END:DAYLIGHT
END:VTIMEZONE
BEGIN:VEVENT
UID:97f23a45-9331-49a9-800f-5287e231f9dd
DTSTAMP:20260426T041540Z
DESCRIPTION:This group meets weekly in the Center to discuss news\, the cur
 rent state of the world and more!
DTSTART;TZID=America/New_York:20230306T130000
DTEND;TZID=America/New_York:20230306T140000
LOCATION:
SUMMARY:Current Events with Tim (In Center)
END:VEVENT
END:VCALENDAR
