BEGIN:VCALENDAR
VERSION:2.0
PRODID:-//rssny.org//NONSGML kigkonsult.se iCalcreator 2.30.10//
CALSCALE:GREGORIAN
METHOD:PUBLISH
UID:29d583ac-80d3-44cd-9aa6-a7fa1e1e25c2
X-WR-CALDESC:
X-WR-RELCALID:f9734b447f405aec055def09affb0b08
X-WR-TIMEZONE:America/New_York
BEGIN:VTIMEZONE
TZID:America/New_York
BEGIN:STANDARD
TZNAME:EST
DTSTART:20221106T020000
TZOFFSETFROM:-0400
TZOFFSETTO:-0500
RDATE:20231105T020000
END:STANDARD
BEGIN:DAYLIGHT
TZNAME:EDT
DTSTART:20220313T020000
TZOFFSETFROM:-0500
TZOFFSETTO:-0400
RDATE:20230312T020000
RDATE:20240310T020000
END:DAYLIGHT
END:VTIMEZONE
BEGIN:VEVENT
UID:98ee1d1a-371b-4bb0-943c-9e67ccf15a33
DTSTAMP:20260426T041141Z
DESCRIPTION:
DTSTART;TZID=America/New_York:20230302T130000
DTEND;TZID=America/New_York:20230302T140000
LOCATION:
SUMMARY:PLACEHOLDER: DOT Presentation
END:VEVENT
END:VCALENDAR
