BEGIN:VCALENDAR
VERSION:2.0
PRODID:-//rssny.org//NONSGML kigkonsult.se iCalcreator 2.30.10//
CALSCALE:GREGORIAN
METHOD:PUBLISH
UID:7350b60e-010a-40cc-97b3-b257fd920c57
X-WR-CALDESC:Love knitting? Want to learn? Join the RSS knitting group. Lim
 ited space so registration is important.
X-WR-RELCALID:bb6f2159ca590d3539ba4af3950f2cbe
X-WR-TIMEZONE:America/New_York
BEGIN:VTIMEZONE
TZID:America/New_York
BEGIN:STANDARD
TZNAME:EST
DTSTART:20221106T020000
TZOFFSETFROM:-0400
TZOFFSETTO:-0500
RDATE:20231105T020000
END:STANDARD
BEGIN:DAYLIGHT
TZNAME:EDT
DTSTART:20220313T020000
TZOFFSETFROM:-0500
TZOFFSETTO:-0400
RDATE:20230312T020000
RDATE:20240310T020000
END:DAYLIGHT
END:VTIMEZONE
BEGIN:VEVENT
UID:35418e13-b533-4b66-bbb7-6691c608915c
DTSTAMP:20260426T041658Z
DESCRIPTION:Love knitting? Want to learn? Join the RSS knitting group. Limi
 ted space so registration is important.
DTSTART;TZID=America/New_York:20230302T100000
DTEND;TZID=America/New_York:20230302T113000
LOCATION:
SUMMARY:IN PERSON: Knitting Group
END:VEVENT
END:VCALENDAR
